BEGIN:VCALENDAR
VERSION:2.0
PRODID:-//ChamberMaster//Event Calendar 2.0//EN
METHOD:PUBLISH
X-PUBLISHED-TTL:P3D
REFRESH-INTERVAL:P3D
CALSCALE:GREGORIAN
BEGIN:VEVENT
DTSTART:20191105T160000Z
DTEND:20191105T173000Z
X-MICROSOFT-CDO-ALLDAYEVENT:FALSE
SUMMARY:2019 - Enhancing the Business Experience with Energy Saving Upgrades
DESCRIPTION:If you're interested in what you could save from energy-efficiency upgrades\, but never have time to get around to it or don't even know where to begin\, you're in luck. Ben Gardiner is a BC Hydro Business Development Specialist and Energy Advisor focused on providing support to businesses throughout the province.\n\n \n\nBen works directly with customers and business associations to seek energy saving opportunities and share best practices for reducing utility bills. After a decade helping customers navigate energy efficiency projects\, Ben knows what is truly achievable and reasonable for businesses to expect when adopting energy efficient technologies and can assist in accessing available incentive programs and resources.\n\n\n\nEvent Details:\n\nLocation: 201 4555 Kingsway\, Burnaby \n\nTime: 8:30am to 9:30am\n\nCost: Free to attend\n\nRegister: Call 604-412-0100\, email us\, or sign up online with your email \n\nCoffee and light breakfast will be provided.
X-ALT-DESC;FMTTYPE=text/html:<p>&nbsp\;<br />\nIf you&#39\;re interested in what you could save from energy-efficiency upgrades\, but never have time to get around to it or don&rsquo\;t even know where to begin\, you&#39\;re in luck. Ben Gardiner is a BC Hydro Business Development Specialist and Energy Advisor focused on providing support to businesses throughout the province.<br />\n&nbsp\;<br />\nBen works directly with customers and business associations to seek energy saving opportunities and share best practices for reducing utility bills. After a decade helping customers navigate energy efficiency projects\, Ben knows what is truly achievable and reasonable for businesses to expect when adopting energy efficient technologies and can assist in accessing available incentive programs and resources.<br />\n<br />\n<strong><u>Event Details:</u><br />\nLocation: 201&nbsp\;</strong><a href="https://www.google.com/maps/place/4555+Kingsway\,+Burnaby\,+BC+V5H+4V8/@49.2300024\,-123.0050796\,17z/data=!3m1!4b1!4m5!3m4!1s0x548676589ef1ee19:0x1cc318c45d0fc492!8m2!3d49.2300024!4d-123.0028909">4555 Kingsway\, Burnaby</a>&nbsp\;<br />\n<strong>Time: </strong>8:30am to 9:30am<br />\n<strong>Cost: </strong>Free to attend<br />\n<strong>Register</strong>: Call 604-412-0100\, <a href="mailto:admin@bbot.ca">email us</a>\, or <a href="https://burnabyboardoftrade.chambermaster.com/eventregistration/register/2229">sign up online with your email&nbsp\;</a></p>\n\n<p>Coffee and light breakfast will be provided.</p>\n
LOCATION:
UID:e.1232.2229
SEQUENCE:3
DTSTAMP:20260421T040246Z
URL:https://bbot-nexam24-gzcms.preview.gochambermaster.com/events/details/2019-enhancing-the-business-experience-with-energy-saving-upgrades-2229
END:VEVENT

END:VCALENDAR
