BEGIN:VCALENDAR
VERSION:2.0
PRODID:-//ChamberMaster//Event Calendar 2.0//EN
METHOD:PUBLISH
X-PUBLISHED-TTL:P3D
REFRESH-INTERVAL:P3D
CALSCALE:GREGORIAN
BEGIN:VEVENT
DTSTART:20200525T190000Z
DTEND:20200525T200000Z
X-MICROSOFT-CDO-ALLDAYEVENT:FALSE
SUMMARY:2020 - BCIT Corporate Leadership Webinar: Planning in Times of Uncertainty
DESCRIPTION:BCIT and the Burnaby Board of Trade are collaborating to bring you the latest tools and resources you need to hone your leadership skills and help you navigate your organization through these challenging times.\n\n\n\nPlanning in Times of Uncertainty\n\n\n\nIs it possible to make plans when the future is uncertain? According to Sophie\, who leads a team that aims to strategically procure $2 billion of goods and services for BC Hydro\, this is an especially important time to plan. Join Sophie to leverage Project Management tools to enable planning during COVID-19.\n\n\n\nDetails\n\nDate: Monday May 25th\, 2020\n\nTime: 12:00 pm to 1:00 pm\n\nCost: Free\n\nRegistration: Click here to register.
X-ALT-DESC;FMTTYPE=text/html:BCIT and the Burnaby Board of Trade are collaborating to bring you the latest tools and resources you need to&nbsp\;hone your leadership skills and help you navigate your organization through these challenging times.<br />\n<br />\n<a href="https://exchange.robsoninc.com/owa/14.3.439.0/scripts/premium/redir.aspx?C=1DPbsut6MruD3amB7XfKI7GEDFwoc-qTXJEsLxtmFAeNaQpeNfzXCA..&amp\;URL=https%3a%2f%2fcan01.safelinks.protection.outlook.com%2f%3furl%3dhttp%253A%252F%252Ftrk.cp20.com%252Fclick%252Fg81d-20yx5c-n8lxlh-dob22rt2%252F%26data%3d02%257C01%257CLeelah_Dawson%2540bcit.ca%257Cb9690c9a6364436bd74808d7fc098546%257C8322cefd0a4c4e2cbde5b17933e7b00f%257C0%257C0%257C637254990125984840%26sdata%3dX3mDtbMmzOYsESkku0TlJwygmEnOQ%252Fuh8l8OHQwdpXk%253D%26reserved%3d0" rel="noopener noreferrer" style="font-size: 16px\; color: purple\; font-family: &quot\;Times New Roman&quot\;\, serif\;" target="_blank"><b><span style="font-size: 10.5pt\; font-family: Arial\, sans-serif\; color: rgb(41\, 96\, 167)\;">Planning in Times of Uncertainty</span></b></a><br />\n<br />\n<span style="font-size: 10.5pt\; font-family: Arial\, sans-serif\; color: rgb(45\, 45\, 45)\;">Is it possible to make plans when the future is uncertain? According to Sophie\, who leads a team that aims to strategically procure $2 billion of goods and services for BC Hydro\, this is an especially important time to plan. Join Sophie to leverage Project Management tools to enable planning during COVID-19.<br />\n<br />\n<strong>Details</strong></span><br />\nDate: Monday May 25th\, 2020<br />\nTime: 12:00 pm to 1:00 pm<br />\nCost: Free<br />\nRegistration: Click <a href="http://www.bcit.ca/study/courses/corp0330">here</a> to register.
LOCATION:
UID:e.1232.2291
SEQUENCE:3
DTSTAMP:20260419T160845Z
URL:https://bbot-nexam24-gzcms.preview.gochambermaster.com/events/details/2020-bcit-corporate-leadership-webinar-planning-in-times-of-uncertainty-2291
END:VEVENT

END:VCALENDAR
